BEGIN:VCALENDAR
VERSION:2.0
PRODID:-//North Texas Garden Railroad Club - ECPv6.15.20//NONSGML v1.0//EN
CALSCALE:GREGORIAN
METHOD:PUBLISH
X-ORIGINAL-URL:https://ntgrc.org
X-WR-CALDESC:Events for North Texas Garden Railroad Club
REFRESH-INTERVAL;VALUE=DURATION:PT1H
X-Robots-Tag:noindex
X-PUBLISHED-TTL:PT1H
BEGIN:VTIMEZONE
TZID:America/Chicago
BEGIN:DAYLIGHT
TZOFFSETFROM:-0600
TZOFFSETTO:-0500
TZNAME:CDT
DTSTART:20250309T080000
END:DAYLIGHT
BEGIN:STANDARD
TZOFFSETFROM:-0500
TZOFFSETTO:-0600
TZNAME:CST
DTSTART:20251102T070000
END:STANDARD
BEGIN:DAYLIGHT
TZOFFSETFROM:-0600
TZOFFSETTO:-0500
TZNAME:CDT
DTSTART:20260308T080000
END:DAYLIGHT
BEGIN:STANDARD
TZOFFSETFROM:-0500
TZOFFSETTO:-0600
TZNAME:CST
DTSTART:20261101T070000
END:STANDARD
BEGIN:DAYLIGHT
TZOFFSETFROM:-0600
TZOFFSETTO:-0500
TZNAME:CDT
DTSTART:20270314T080000
END:DAYLIGHT
BEGIN:STANDARD
TZOFFSETFROM:-0500
TZOFFSETTO:-0600
TZNAME:CST
DTSTART:20271107T070000
END:STANDARD
END:VTIMEZONE
BEGIN:VEVENT
DTSTART;TZID=America/Chicago:20260322T150000
DTEND;TZID=America/Chicago:20260322T210000
DTSTAMP:20260423T133219
CREATED:20250828T010652Z
LAST-MODIFIED:20260314T180829Z
UID:827-1774191600-1774213200@ntgrc.org
SUMMARY:Jack Huffman Home Meeting
DESCRIPTION:
URL:https://ntgrc.org/event/jack-huffman-home-meeting/
LOCATION:Jack Huffman’s Home\, 7001 Aspen Wood Trail\, Fort Worth\, TX\, 76132\, United States
END:VEVENT
BEGIN:VEVENT
DTSTART;TZID=America/Chicago:20260324T180000
DTEND;TZID=America/Chicago:20260324T190000
DTSTAMP:20260423T133219
CREATED:20260121T160334Z
LAST-MODIFIED:20260307T162534Z
UID:912-1774375200-1774378800@ntgrc.org
SUMMARY:NTGRC March Board of Directors Meeting - Cancelled
DESCRIPTION:
URL:https://ntgrc.org/event/ntgrc-march-board-of-directors-meeting-2/
LOCATION:Sping Creek BBQ – Irving\, 3514 W Airport Fwy\, Irving\, TX\, 75062\, United States
END:VEVENT
END:VCALENDAR