BEGIN:VCALENDAR
VERSION:2.0
PRODID:-//North Texas Garden Railroad Club - ECPv6.15.20//NONSGML v1.0//EN
CALSCALE:GREGORIAN
METHOD:PUBLISH
X-ORIGINAL-URL:https://ntgrc.org
X-WR-CALDESC:Events for North Texas Garden Railroad Club
REFRESH-INTERVAL;VALUE=DURATION:PT1H
X-Robots-Tag:noindex
X-PUBLISHED-TTL:PT1H
BEGIN:VTIMEZONE
TZID:America/Chicago
BEGIN:DAYLIGHT
TZOFFSETFROM:-0600
TZOFFSETTO:-0500
TZNAME:CDT
DTSTART:20240310T080000
END:DAYLIGHT
BEGIN:STANDARD
TZOFFSETFROM:-0500
TZOFFSETTO:-0600
TZNAME:CST
DTSTART:20241103T070000
END:STANDARD
BEGIN:DAYLIGHT
TZOFFSETFROM:-0600
TZOFFSETTO:-0500
TZNAME:CDT
DTSTART:20250309T080000
END:DAYLIGHT
BEGIN:STANDARD
TZOFFSETFROM:-0500
TZOFFSETTO:-0600
TZNAME:CST
DTSTART:20251102T070000
END:STANDARD
BEGIN:DAYLIGHT
TZOFFSETFROM:-0600
TZOFFSETTO:-0500
TZNAME:CDT
DTSTART:20260308T080000
END:DAYLIGHT
BEGIN:STANDARD
TZOFFSETFROM:-0500
TZOFFSETTO:-0600
TZNAME:CST
DTSTART:20261101T070000
END:STANDARD
END:VTIMEZONE
BEGIN:VEVENT
DTSTART;VALUE=DATE:20250308
DTEND;VALUE=DATE:20250317
DTSTAMP:20260424T100720
CREATED:20250303T233910Z
LAST-MODIFIED:20250303T233910Z
UID:757-1741392000-1742169599@ntgrc.org
SUMMARY:Texas Discovery Gardens Spring Break Train Runs
DESCRIPTION:
URL:https://ntgrc.org/event/texas-discovery-gardens-spring-break-train-runs/
LOCATION:Texas Discovery Gardens\, 3601 Martin Luther King Jr Blvd\, Dallas\, TX\, 75210\, United States
END:VEVENT
BEGIN:VEVENT
DTSTART;TZID=America/Chicago:20250330T140000
DTEND;TZID=America/Chicago:20250330T160000
DTSTAMP:20260424T100720
CREATED:20250222T172230Z
LAST-MODIFIED:20250222T182356Z
UID:723-1743343200-1743350400@ntgrc.org
SUMMARY:Barbara Pena & Paul McCormick's Home Meeting
DESCRIPTION:
URL:https://ntgrc.org/event/barbara-pena-paul-youngs-home-meeting/
LOCATION:Barbara Pena & Paul McCormick’s Home\, 1502 Crown Point Rd.\, McKinney\, TX\, 75072\, United States
END:VEVENT
END:VCALENDAR