BEGIN:VCALENDAR
VERSION:2.0
PRODID:-//North Texas Garden Railroad Club - ECPv6.15.20//NONSGML v1.0//EN
CALSCALE:GREGORIAN
METHOD:PUBLISH
X-ORIGINAL-URL:https://ntgrc.org
X-WR-CALDESC:Events for North Texas Garden Railroad Club
REFRESH-INTERVAL;VALUE=DURATION:PT1H
X-Robots-Tag:noindex
X-PUBLISHED-TTL:PT1H
BEGIN:VTIMEZONE
TZID:UTC
BEGIN:STANDARD
TZOFFSETFROM:+0000
TZOFFSETTO:+0000
TZNAME:UTC
DTSTART:20230101T000000
END:STANDARD
END:VTIMEZONE
BEGIN:VEVENT
DTSTART;TZID=UTC:20240831T080000
DTEND;TZID=UTC:20240901T170000
DTSTAMP:20260424T200556
CREATED:20240207T233452Z
LAST-MODIFIED:20240628T135824Z
UID:547-1725091200-1725210000@ntgrc.org
SUMMARY:Clark Gardens Model Train Show
DESCRIPTION:
URL:https://ntgrc.org/event/clark-gardens-model-train-show-2/
LOCATION:Clark Gardens\, 567 Maddux Road\, Weatherford\, TX\, 76088\, United States
END:VEVENT
BEGIN:VEVENT
DTSTART;TZID=UTC:20240927T100000
DTEND;TZID=UTC:20241020T180000
DTSTAMP:20260424T200556
CREATED:20240207T234140Z
LAST-MODIFIED:20240207T234140Z
UID:550-1727431200-1729447200@ntgrc.org
SUMMARY:State Fair of Texas: Texas Discovery Gardens Train Runs
DESCRIPTION:
URL:https://ntgrc.org/event/state-fair-of-texas-texas-discovery-gardens-train-runs-2/
LOCATION:Texas Discovery Gardens\, 3601 Martin Luther King Jr Blvd\, Dallas\, TX\, 75210\, United States
END:VEVENT
BEGIN:VEVENT
DTSTART;TZID=UTC:20240927T120000
DTEND;TZID=UTC:20240927T190000
DTSTAMP:20260424T200556
CREATED:20240207T234623Z
LAST-MODIFIED:20240207T234623Z
UID:552-1727438400-1727463600@ntgrc.org
SUMMARY:Fall Plano Train Show Setup and No-Host Dinner
DESCRIPTION:
URL:https://ntgrc.org/event/fall-plano-train-show-setup-and-no-host-dinner/
LOCATION:Plano Event Center\, 2000 E. Spring Creek Parkway\, Plano\, TX\, 75074\, United States
END:VEVENT
BEGIN:VEVENT
DTSTART;TZID=UTC:20240928T100000
DTEND;TZID=UTC:20240929T160000
DTSTAMP:20260424T200556
CREATED:20240207T234911Z
LAST-MODIFIED:20240207T234911Z
UID:554-1727517600-1727625600@ntgrc.org
SUMMARY:Fall Plano Train Show
DESCRIPTION:
URL:https://ntgrc.org/event/fall-plano-train-show-3/
LOCATION:Plano Event Center\, 2000 E. Spring Creek Parkway\, Plano\, TX\, 75074\, United States
END:VEVENT
END:VCALENDAR