BEGIN:VCALENDAR
VERSION:2.0
PRODID:-//North Texas Garden Railroad Club - ECPv6.15.20//NONSGML v1.0//EN
CALSCALE:GREGORIAN
METHOD:PUBLISH
X-WR-CALNAME:North Texas Garden Railroad Club
X-ORIGINAL-URL:https://ntgrc.org
X-WR-CALDESC:Events for North Texas Garden Railroad Club
REFRESH-INTERVAL;VALUE=DURATION:PT1H
X-Robots-Tag:noindex
X-PUBLISHED-TTL:PT1H
BEGIN:VTIMEZONE
TZID:UTC
BEGIN:STANDARD
TZOFFSETFROM:+0000
TZOFFSETTO:+0000
TZNAME:UTC
DTSTART:20220101T000000
END:STANDARD
END:VTIMEZONE
BEGIN:VEVENT
DTSTART;TZID=UTC:20230611T140000
DTEND;TZID=UTC:20230611T160000
DTSTAMP:20260425T200713
CREATED:20230507T055535Z
LAST-MODIFIED:20230507T055535Z
UID:464-1686492000-1686499200@ntgrc.org
SUMMARY:NTGRC Annual Meeting
DESCRIPTION:
URL:https://ntgrc.org/event/ntgrc-annual-meeting/
LOCATION:Vard & Becky Moore’s Home\, 6175 Preston Creek Ct\, Dallas\, TX\, 75240\, United States
ORGANIZER;CN="Thomas Lytle":MAILTO:t.lytle@gte.net
END:VEVENT
BEGIN:VEVENT
DTSTART;TZID=UTC:20230627T180000
DTEND;TZID=UTC:20230627T190000
DTSTAMP:20260425T200713
CREATED:20230507T054534Z
LAST-MODIFIED:20230507T054534Z
UID:459-1687888800-1687892400@ntgrc.org
SUMMARY:NTGRC June Board of Directors Meeting
DESCRIPTION:
URL:https://ntgrc.org/event/ntgrc-june-board-of-directors-meeting/
LOCATION:Sping Creek BBQ – Irving\, 3514 W Airport Fwy\, Irving\, TX\, 75062\, United States
ORGANIZER;CN="Thomas Lytle":MAILTO:t.lytle@gte.net
END:VEVENT
BEGIN:VEVENT
DTSTART;VALUE=DATE:20230630
DTEND;VALUE=DATE:20230703
DTSTAMP:20260425T200713
CREATED:20221212T224114Z
LAST-MODIFIED:20221212T224114Z
UID:393-1688083200-1688342399@ntgrc.org
SUMMARY:NGRC North Bay Convention Kick-Off
DESCRIPTION:
URL:https://ntgrc.org/event/ngrc-north-bay-convention-kick-off/
LOCATION:TX
END:VEVENT
END:VCALENDAR