BEGIN:VCALENDAR
VERSION:2.0
PRODID:-//North Texas Garden Railroad Club - ECPv6.15.20//NONSGML v1.0//EN
CALSCALE:GREGORIAN
METHOD:PUBLISH
X-WR-CALNAME:North Texas Garden Railroad Club
X-ORIGINAL-URL:https://ntgrc.org
X-WR-CALDESC:Events for North Texas Garden Railroad Club
REFRESH-INTERVAL;VALUE=DURATION:PT1H
X-Robots-Tag:noindex
X-PUBLISHED-TTL:PT1H
BEGIN:VTIMEZONE
TZID:UTC
BEGIN:STANDARD
TZOFFSETFROM:+0000
TZOFFSETTO:+0000
TZNAME:UTC
DTSTART:20220101T000000
END:STANDARD
END:VTIMEZONE
BEGIN:VEVENT
DTSTART;TZID=UTC:20230521T140000
DTEND;TZID=UTC:20230521T160000
DTSTAMP:20260425T214133
CREATED:20230211T081427Z
LAST-MODIFIED:20230211T081427Z
UID:445-1684677600-1684684800@ntgrc.org
SUMMARY:May Home Meeting - Jack Huffman's Home
DESCRIPTION:
URL:https://ntgrc.org/event/may-home-meeting-jack-huffmans-home/
LOCATION:Jack Huffman’s Home\, 7001 Aspen Wood Trail\, Fort Worth\, TX\, 76132\, United States
ORGANIZER;CN="Thomas Lytle":MAILTO:t.lytle@gte.net
END:VEVENT
BEGIN:VEVENT
DTSTART;TZID=UTC:20230523T180000
DTEND;TZID=UTC:20230523T190000
DTSTAMP:20260425T214133
CREATED:20230507T054358Z
LAST-MODIFIED:20230507T054358Z
UID:457-1684864800-1684868400@ntgrc.org
SUMMARY:NTGRC May Board of Directors Meeting
DESCRIPTION:
URL:https://ntgrc.org/event/ntgrc-may-board-of-directors-meeting/
LOCATION:Sping Creek BBQ – Irving\, 3514 W Airport Fwy\, Irving\, TX\, 75062\, United States
ORGANIZER;CN="Thomas Lytle":MAILTO:t.lytle@gte.net
END:VEVENT
END:VCALENDAR