BEGIN:VCALENDAR
VERSION:2.0
PRODID:-//North Texas Garden Railroad Club - ECPv6.15.20//NONSGML v1.0//EN
CALSCALE:GREGORIAN
METHOD:PUBLISH
X-WR-CALNAME:North Texas Garden Railroad Club
X-ORIGINAL-URL:https://ntgrc.org
X-WR-CALDESC:Events for North Texas Garden Railroad Club
REFRESH-INTERVAL;VALUE=DURATION:PT1H
X-Robots-Tag:noindex
X-PUBLISHED-TTL:PT1H
BEGIN:VTIMEZONE
TZID:UTC
BEGIN:STANDARD
TZOFFSETFROM:+0000
TZOFFSETTO:+0000
TZNAME:UTC
DTSTART:20220101T000000
END:STANDARD
END:VTIMEZONE
BEGIN:VEVENT
DTSTART;TZID=UTC:20230425T180000
DTEND;TZID=UTC:20230425T190000
DTSTAMP:20260425T230118
CREATED:20230406T062048Z
LAST-MODIFIED:20230406T062048Z
UID:453-1682445600-1682449200@ntgrc.org
SUMMARY:NTGRC April Board of Directors' Meeting
DESCRIPTION:
URL:https://ntgrc.org/event/ntgrc-april-board-of-directors-meeting/
LOCATION:Sping Creek BBQ – Irving\, 3514 W Airport Fwy\, Irving\, TX\, 75062\, United States
ORGANIZER;CN="Thomas Lytle":MAILTO:t.lytle@gte.net
END:VEVENT
BEGIN:VEVENT
DTSTART;TZID=UTC:20230430T140000
DTEND;TZID=UTC:20230430T160000
DTSTAMP:20260425T230118
CREATED:20230406T060430Z
LAST-MODIFIED:20230406T060430Z
UID:448-1682863200-1682870400@ntgrc.org
SUMMARY:April Home Meeting - Robbie & Heather Greene
DESCRIPTION:
URL:https://ntgrc.org/event/april-home-meeting-robbie-heather-greene/
LOCATION:TX
ORGANIZER;CN="Thomas Lytle":MAILTO:t.lytle@gte.net
END:VEVENT
END:VCALENDAR