BEGIN:VCALENDAR
VERSION:2.0
PRODID:-//North Texas Garden Railroad Club - ECPv6.15.20//NONSGML v1.0//EN
CALSCALE:GREGORIAN
METHOD:PUBLISH
X-WR-CALNAME:North Texas Garden Railroad Club
X-ORIGINAL-URL:https://ntgrc.org
X-WR-CALDESC:Events for North Texas Garden Railroad Club
REFRESH-INTERVAL;VALUE=DURATION:PT1H
X-Robots-Tag:noindex
X-PUBLISHED-TTL:PT1H
BEGIN:VTIMEZONE
TZID:America/Chicago
BEGIN:DAYLIGHT
TZOFFSETFROM:-0600
TZOFFSETTO:-0500
TZNAME:CDT
DTSTART:20230312T080000
END:DAYLIGHT
BEGIN:STANDARD
TZOFFSETFROM:-0500
TZOFFSETTO:-0600
TZNAME:CST
DTSTART:20231105T070000
END:STANDARD
BEGIN:DAYLIGHT
TZOFFSETFROM:-0600
TZOFFSETTO:-0500
TZNAME:CDT
DTSTART:20240310T080000
END:DAYLIGHT
BEGIN:STANDARD
TZOFFSETFROM:-0500
TZOFFSETTO:-0600
TZNAME:CST
DTSTART:20241103T070000
END:STANDARD
BEGIN:DAYLIGHT
TZOFFSETFROM:-0600
TZOFFSETTO:-0500
TZNAME:CDT
DTSTART:20250309T080000
END:DAYLIGHT
BEGIN:STANDARD
TZOFFSETFROM:-0500
TZOFFSETTO:-0600
TZNAME:CST
DTSTART:20251102T070000
END:STANDARD
END:VTIMEZONE
BEGIN:VTIMEZONE
TZID:UTC
BEGIN:STANDARD
TZOFFSETFROM:+0000
TZOFFSETTO:+0000
TZNAME:UTC
DTSTART:20220101T000000
END:STANDARD
END:VTIMEZONE
BEGIN:VEVENT
DTSTART;TZID=America/Chicago:20240721T150000
DTEND;TZID=America/Chicago:20240721T213000
DTSTAMP:20260423T185614
CREATED:20240421T233408Z
LAST-MODIFIED:20240421T233408Z
UID:590-1721574000-1721597400@ntgrc.org
SUMMARY:Friends of the Cumbres Toltec Railroad Dinner Train
DESCRIPTION:
URL:https://ntgrc.org/event/friends-of-the-cumbres-toltec-railroad-dinner-train/
LOCATION:Cumbres Toltec Railroad\, 500 S Terrace Ave\, Chama\, NM\, 87520\, United States
END:VEVENT
BEGIN:VEVENT
DTSTART;TZID=America/Chicago:20240721T140000
DTEND;TZID=America/Chicago:20240721T160000
DTSTAMP:20260423T185614
CREATED:20240624T232926Z
LAST-MODIFIED:20240624T232926Z
UID:604-1721570400-1721577600@ntgrc.org
SUMMARY:Shop and Swap Meet
DESCRIPTION:
URL:https://ntgrc.org/event/shop-and-swap-meet/
LOCATION:Texas Discovery Gardens\, 3601 Martin Luther King Jr Blvd\, Dallas\, TX\, 75210\, United States
END:VEVENT
BEGIN:VEVENT
DTSTART;TZID=America/Chicago:20240625T180000
DTEND;TZID=America/Chicago:20240625T193000
DTSTAMP:20260423T185614
CREATED:20240421T234307Z
LAST-MODIFIED:20240624T232007Z
UID:595-1719338400-1719343800@ntgrc.org
SUMMARY:CANCELLED - NTGRC June Board of Directors Meeting
DESCRIPTION:
URL:https://ntgrc.org/event/ntgrc-june-board-of-directors-meeting-2/
LOCATION:Sping Creek BBQ – Irving\, 3514 W Airport Fwy\, Irving\, TX\, 75062\, United States
END:VEVENT
BEGIN:VEVENT
DTSTART;TZID=America/Chicago:20240608T140000
DTEND;TZID=America/Chicago:20240608T160000
DTSTAMP:20260423T185614
CREATED:20240421T234038Z
LAST-MODIFIED:20240421T234038Z
UID:593-1717855200-1717862400@ntgrc.org
SUMMARY:NTGRC Annual Meeting - Vard & Becky Moore's Home
DESCRIPTION:
URL:https://ntgrc.org/event/ntgrc-annual-meeting-vard-becky-moores-home/
LOCATION:Vard & Becky Moore’s Home\, 6175 Preston Creek Ct\, Dallas\, TX\, 75240\, United States
END:VEVENT
BEGIN:VEVENT
DTSTART;TZID=America/Chicago:20240528T180000
DTEND;TZID=America/Chicago:20240528T193000
DTSTAMP:20260423T185614
CREATED:20240421T232518Z
LAST-MODIFIED:20240421T232518Z
UID:588-1716919200-1716924600@ntgrc.org
SUMMARY:NTGRC May Board of Directors Meeting
DESCRIPTION:
URL:https://ntgrc.org/event/ntgrc-may-board-of-directors-meeting-2/
LOCATION:Sping Creek BBQ – Irving\, 3514 W Airport Fwy\, Irving\, TX\, 75062\, United States
END:VEVENT
BEGIN:VEVENT
DTSTART;TZID=UTC:20240505T120000
DTEND;TZID=UTC:20240505T170000
DTSTAMP:20260423T185614
CREATED:20240220T075456Z
LAST-MODIFIED:20240220T075456Z
UID:572-1714910400-1714928400@ntgrc.org
SUMMARY:Edi & David St. John's Home Meeting
DESCRIPTION:
URL:https://ntgrc.org/event/edi-david-st-johns-home-meeting/
LOCATION:Edi & David St. John’s Home\, 9701 Brush Creek Rd.\, Norman\, OK\, 73026\, United States
END:VEVENT
BEGIN:VEVENT
DTSTART;TZID=UTC:20240428T150000
DTEND;TZID=UTC:20240428T170000
DTSTAMP:20260423T185614
CREATED:20240220T073336Z
LAST-MODIFIED:20240227T013332Z
UID:562-1714316400-1714323600@ntgrc.org
SUMMARY:Robby & Heather Greene's Home Meeting
DESCRIPTION:
URL:https://ntgrc.org/event/robby-heather-greenes-home-meeting/
LOCATION:Robby & Heather Greene’s Home\, 400 N. Gaston Drive\, Wylie\, TX\, 75098\, United States
END:VEVENT
BEGIN:VEVENT
DTSTART;TZID=America/Chicago:20240424T180000
DTEND;TZID=America/Chicago:20240424T193000
DTSTAMP:20260423T185614
CREATED:20240421T232105Z
LAST-MODIFIED:20240421T232105Z
UID:586-1713981600-1713987000@ntgrc.org
SUMMARY:NTGRC April Board of Directors Meeting
DESCRIPTION:
URL:https://ntgrc.org/event/ntgrc-april-board-of-directors-meeting-2/
LOCATION:Sping Creek BBQ – Irving\, 3514 W Airport Fwy\, Irving\, TX\, 75062\, United States
END:VEVENT
BEGIN:VEVENT
DTSTART;TZID=UTC:20240326T180000
DTEND;TZID=UTC:20240326T193000
DTSTAMP:20260423T185614
CREATED:20240220T075949Z
LAST-MODIFIED:20240220T075949Z
UID:576-1711476000-1711481400@ntgrc.org
SUMMARY:NTGRC March Board of Directors Meeting
DESCRIPTION:
URL:https://ntgrc.org/event/ntgrc-march-board-of-directors-meeting/
LOCATION:Sping Creek BBQ – Irving\, 3514 W Airport Fwy\, Irving\, TX\, 75062\, United States
END:VEVENT
BEGIN:VEVENT
DTSTART;TZID=UTC:20240310T140000
DTEND;TZID=UTC:20240310T160000
DTSTAMP:20260423T185614
CREATED:20240220T072553Z
LAST-MODIFIED:20240220T072553Z
UID:558-1710079200-1710086400@ntgrc.org
SUMMARY:Victor & Lawanda Jones' Home Meeting
DESCRIPTION:
URL:https://ntgrc.org/event/victor-lawanda-jones-home-meeting/
LOCATION:Victor & Lawanda Jones’ Home\, 11351 Norcross Drive\, Cross Roads\, TX\, 76227\, United States
END:VEVENT
BEGIN:VEVENT
DTSTART;TZID=UTC:20240227T180000
DTEND;TZID=UTC:20240227T193000
DTSTAMP:20260423T185614
CREATED:20240207T230732Z
LAST-MODIFIED:20240207T230732Z
UID:542-1709056800-1709062200@ntgrc.org
SUMMARY:NTGRC February Board of Directors Meeting
DESCRIPTION:
URL:https://ntgrc.org/event/ntgrc-february-board-of-directors-meeting/
LOCATION:Sping Creek BBQ – Irving\, 3514 W Airport Fwy\, Irving\, TX\, 75062\, United States
END:VEVENT
BEGIN:VEVENT
DTSTART;TZID=UTC:20240218T140000
DTEND;TZID=UTC:20240218T160000
DTSTAMP:20260423T185614
CREATED:20230521T070239Z
LAST-MODIFIED:20240131T223734Z
UID:498-1708264800-1708272000@ntgrc.org
SUMMARY:February 2024 Home Meeting
DESCRIPTION:
URL:https://ntgrc.org/event/march-2024-home-meeting/
LOCATION:Thomas & M’Lou Lytle’s Home\, 2524 Willowdale Drive\, Carrollton\, TX\, 75006\, United States
ORGANIZER;CN="Thomas Lytle":MAILTO:t.lytle@gte.net
END:VEVENT
BEGIN:VEVENT
DTSTART;TZID=UTC:20240120T100000
DTEND;TZID=UTC:20240121T160000
DTSTAMP:20260423T185614
CREATED:20230521T065821Z
LAST-MODIFIED:20230525T001040Z
UID:496-1705744800-1705852800@ntgrc.org
SUMMARY:Dallas Area Train Show
DESCRIPTION:
URL:https://ntgrc.org/event/dallas-area-train-show-2/
LOCATION:Plano Event Center\, 2000 E. Spring Creek Parkway\, Plano\, TX\, 75074\, United States
ORGANIZER;CN="Thomas Lytle":MAILTO:t.lytle@gte.net
END:VEVENT
BEGIN:VEVENT
DTSTART;TZID=UTC:20240119T130000
DTEND;TZID=UTC:20240119T190000
DTSTAMP:20260423T185614
CREATED:20230521T065338Z
LAST-MODIFIED:20230525T001427Z
UID:493-1705669200-1705690800@ntgrc.org
SUMMARY:Dallas Area Train Show Setup and No-Host Dinner
DESCRIPTION:
URL:https://ntgrc.org/event/dallas-area-train-show-setup-and-no-host-dinner-2/
LOCATION:Plano Event Center\, 2000 E. Spring Creek Parkway\, Plano\, TX\, 75074\, United States
ORGANIZER;CN="Thomas Lytle":MAILTO:t.lytle@gte.net
END:VEVENT
BEGIN:VEVENT
DTSTART;TZID=UTC:20231203T160000
DTEND;TZID=UTC:20231203T173000
DTSTAMP:20260423T185614
CREATED:20230927T211847Z
LAST-MODIFIED:20230927T211847Z
UID:527-1701619200-1701624600@ntgrc.org
SUMMARY:Christmas Dinner Meeting
DESCRIPTION:
URL:https://ntgrc.org/event/christmas-dinner-meeting/
LOCATION:La Hacienda Ranch\, 5250 Highway 121\, Colleyville\, 76034
END:VEVENT
BEGIN:VEVENT
DTSTART;TZID=UTC:20231112T140000
DTEND;TZID=UTC:20231112T160000
DTSTAMP:20260423T185614
CREATED:20231023T063830Z
LAST-MODIFIED:20231023T063830Z
UID:531-1699797600-1699804800@ntgrc.org
SUMMARY:November Monthly Meeting
DESCRIPTION:
URL:https://ntgrc.org/event/november-monthly-meeting/
LOCATION:David and Cindy Valdez’s Home\, 129 Hidden Valley Airport\, Shady Shores\, TX\, 76208\, United States
END:VEVENT
BEGIN:VEVENT
DTSTART;TZID=UTC:20231024T180000
DTEND;TZID=UTC:20231024T190000
DTSTAMP:20260423T185614
CREATED:20231023T065146Z
LAST-MODIFIED:20231023T071550Z
UID:538-1698170400-1698174000@ntgrc.org
SUMMARY:NTGRC October Board of Director's Meeting
DESCRIPTION:
URL:https://ntgrc.org/event/ntgrc-october-board-of-directors-meeting/
LOCATION:Sping Creek BBQ – Irving\, 3514 W Airport Fwy\, Irving\, TX\, 75062\, United States
END:VEVENT
BEGIN:VEVENT
DTSTART;VALUE=DATE:20230930
DTEND;VALUE=DATE:20231002
DTSTAMP:20260423T185614
CREATED:20221212T232736Z
LAST-MODIFIED:20230525T001907Z
UID:410-1696032000-1696204799@ntgrc.org
SUMMARY:Fall Plano Train Show
DESCRIPTION:
URL:https://ntgrc.org/event/fall-plano-train-show-2/
LOCATION:Plano Event Center\, 2000 E. Spring Creek Parkway\, Plano\, TX\, 75074\, United States
END:VEVENT
BEGIN:VEVENT
DTSTART;TZID=UTC:20230929T120000
DTEND;TZID=UTC:20230929T190000
DTSTAMP:20260423T185614
CREATED:20221212T232523Z
LAST-MODIFIED:20230927T203241Z
UID:408-1695988800-1696014000@ntgrc.org
SUMMARY:Fall Plano Train Show Setup & No-Host Dinner
DESCRIPTION:
URL:https://ntgrc.org/event/fall-plano-train-show-setup-no-host-dinner/
LOCATION:Plano Event Center\, 2000 E. Spring Creek Parkway\, Plano\, TX\, 75074\, United States
END:VEVENT
BEGIN:VEVENT
DTSTART;VALUE=DATE:20230929
DTEND;VALUE=DATE:20231023
DTSTAMP:20260423T185614
CREATED:20230507T064442Z
LAST-MODIFIED:20230507T064636Z
UID:477-1695945600-1698019199@ntgrc.org
SUMMARY:State Fair of Texas: Texas Discovery Gardens Train Runs
DESCRIPTION:
URL:https://ntgrc.org/event/state-fair-of-texas-texas-discovery-gardens-train-runs/
LOCATION:Texas Discovery Gardens\, 3601 Martin Luther King Jr Blvd\, Dallas\, TX\, 75210\, United States
ORGANIZER;CN="Ron Natinsky":MAILTO:ron@obgt,com
END:VEVENT
BEGIN:VEVENT
DTSTART;VALUE=DATE:20230902
DTEND;VALUE=DATE:20230904
DTSTAMP:20260423T185614
CREATED:20230507T063544Z
LAST-MODIFIED:20230507T063544Z
UID:475-1693612800-1693785599@ntgrc.org
SUMMARY:Clark Gardens Model Train Show
DESCRIPTION:
URL:https://ntgrc.org/event/clark-gardens-model-train-show/
LOCATION:Clark Gardens\, 567 Maddux Road\, Weatherford\, TX\, 76088\, United States
END:VEVENT
BEGIN:VEVENT
DTSTART;TZID=UTC:20230901T120000
DTEND;TZID=UTC:20230901T190000
DTSTAMP:20260423T185614
CREATED:20230507T062727Z
LAST-MODIFIED:20230507T062727Z
UID:473-1693569600-1693594800@ntgrc.org
SUMMARY:Clark Gardens Model Train Show Setup and No-Host Dinner
DESCRIPTION:
URL:https://ntgrc.org/event/clark-gardens-model-train-show-setup-and-no-host-dinner/
LOCATION:Clark Gardens\, 567 Maddux Road\, Weatherford\, TX\, 76088\, United States
ORGANIZER;CN="Thomas Lytle":MAILTO:t.lytle@gte.net
END:VEVENT
BEGIN:VEVENT
DTSTART;VALUE=DATE:20230820
DTEND;VALUE=DATE:20230827
DTSTAMP:20260423T185614
CREATED:20221212T231917Z
LAST-MODIFIED:20221212T231917Z
UID:404-1692489600-1693094399@ntgrc.org
SUMMARY:National Model Railroad Association (NMRA) International Convention "2023 Texas Express"
DESCRIPTION:
URL:https://ntgrc.org/event/national-model-railroad-association-nmra-international-convention-2023-texas-express/
LOCATION:Gaylord Texan\, 1501 Gaylord Trail\, Grapevine\, TX\, 76051\, United States
END:VEVENT
BEGIN:VEVENT
DTSTART;TZID=UTC:20230730T140000
DTEND;TZID=UTC:20230730T160000
DTSTAMP:20260423T185614
CREATED:20230507T060237Z
LAST-MODIFIED:20230507T060237Z
UID:467-1690725600-1690732800@ntgrc.org
SUMMARY:NTGRC July Monthly Meeting
DESCRIPTION:
URL:https://ntgrc.org/event/ntgrc-july-monthly-meeting/
LOCATION:Tim & Janis Hunt’s Home\, 5912 White Pine Dr.\, McKinney\, TX\, 75070\, United States
END:VEVENT
BEGIN:VEVENT
DTSTART;TZID=UTC:20230729T170000
DTEND;TZID=UTC:20230729T210000
DTSTAMP:20260423T185614
CREATED:20221212T231330Z
LAST-MODIFIED:20221212T231330Z
UID:401-1690650000-1690664400@ntgrc.org
SUMMARY:Friends of the Cumbres & Toltec Dinner Train
DESCRIPTION:
URL:https://ntgrc.org/event/friends-of-the-cumbres-toltec-dinner-train/
LOCATION:TX
END:VEVENT
BEGIN:VEVENT
DTSTART;TZID=UTC:20230725T180000
DTEND;TZID=UTC:20230725T190000
DTSTAMP:20260423T185614
CREATED:20230507T054654Z
LAST-MODIFIED:20230507T054654Z
UID:462-1690308000-1690311600@ntgrc.org
SUMMARY:NTGRC July Board of Directors Meeting
DESCRIPTION:
URL:https://ntgrc.org/event/ntgrc-july-board-of-directors-meeting/
LOCATION:Sping Creek BBQ – Irving\, 3514 W Airport Fwy\, Irving\, TX\, 75062\, United States
END:VEVENT
BEGIN:VEVENT
DTSTART;VALUE=DATE:20230701
DTEND;VALUE=DATE:20230709
DTSTAMP:20260423T185614
CREATED:20221212T230536Z
LAST-MODIFIED:20221212T230536Z
UID:398-1688169600-1688860799@ntgrc.org
SUMMARY:38th National Garden Railway Convention 2023
DESCRIPTION:
URL:https://ntgrc.org/event/38th-national-garden-railway-convention-2023/
LOCATION:Hyatt Regecy\, Santa Clara\, CA\, 5101 Great American Parkway\, Santa Clara\, CA\, 95054\, United States
END:VEVENT
BEGIN:VEVENT
DTSTART;VALUE=DATE:20230630
DTEND;VALUE=DATE:20230703
DTSTAMP:20260423T185614
CREATED:20221212T224114Z
LAST-MODIFIED:20221212T224114Z
UID:393-1688083200-1688342399@ntgrc.org
SUMMARY:NGRC North Bay Convention Kick-Off
DESCRIPTION:
URL:https://ntgrc.org/event/ngrc-north-bay-convention-kick-off/
LOCATION:TX
END:VEVENT
BEGIN:VEVENT
DTSTART;TZID=UTC:20230627T180000
DTEND;TZID=UTC:20230627T190000
DTSTAMP:20260423T185614
CREATED:20230507T054534Z
LAST-MODIFIED:20230507T054534Z
UID:459-1687888800-1687892400@ntgrc.org
SUMMARY:NTGRC June Board of Directors Meeting
DESCRIPTION:
URL:https://ntgrc.org/event/ntgrc-june-board-of-directors-meeting/
LOCATION:Sping Creek BBQ – Irving\, 3514 W Airport Fwy\, Irving\, TX\, 75062\, United States
ORGANIZER;CN="Thomas Lytle":MAILTO:t.lytle@gte.net
END:VEVENT
BEGIN:VEVENT
DTSTART;TZID=UTC:20230611T140000
DTEND;TZID=UTC:20230611T160000
DTSTAMP:20260423T185614
CREATED:20230507T055535Z
LAST-MODIFIED:20230507T055535Z
UID:464-1686492000-1686499200@ntgrc.org
SUMMARY:NTGRC Annual Meeting
DESCRIPTION:
URL:https://ntgrc.org/event/ntgrc-annual-meeting/
LOCATION:Vard & Becky Moore’s Home\, 6175 Preston Creek Ct\, Dallas\, TX\, 75240\, United States
ORGANIZER;CN="Thomas Lytle":MAILTO:t.lytle@gte.net
END:VEVENT
END:VCALENDAR