BEGIN:VCALENDAR
VERSION:2.0
PRODID:-//North Texas Garden Railroad Club - ECPv6.15.20//NONSGML v1.0//EN
CALSCALE:GREGORIAN
METHOD:PUBLISH
X-WR-CALNAME:North Texas Garden Railroad Club
X-ORIGINAL-URL:https://ntgrc.org
X-WR-CALDESC:Events for North Texas Garden Railroad Club
REFRESH-INTERVAL;VALUE=DURATION:PT1H
X-Robots-Tag:noindex
X-PUBLISHED-TTL:PT1H
BEGIN:VTIMEZONE
TZID:UTC
BEGIN:STANDARD
TZOFFSETFROM:+0000
TZOFFSETTO:+0000
TZNAME:UTC
DTSTART:20200101T000000
END:STANDARD
END:VTIMEZONE
BEGIN:VEVENT
DTSTART;TZID=UTC:20210427T180000
DTEND;TZID=UTC:20210427T190000
DTSTAMP:20260425T085031
CREATED:20210324T220239Z
LAST-MODIFIED:20210324T220239Z
UID:275-1619546400-1619550000@ntgrc.org
SUMMARY:NTGRC Board Meeting
DESCRIPTION:
URL:https://ntgrc.org/event/ntgrc-board-meeting/
LOCATION:Spring Creek Barbeque\, 315 State Highway 114W\, Grapevine\, 76051
END:VEVENT
BEGIN:VEVENT
DTSTART;TZID=UTC:20210418T140000
DTEND;TZID=UTC:20210418T160000
DTSTAMP:20260425T085031
CREATED:20210324T214653Z
LAST-MODIFIED:20210324T214653Z
UID:273-1618754400-1618761600@ntgrc.org
SUMMARY:April Swap and Shop - Clark Gardens
DESCRIPTION:
URL:https://ntgrc.org/event/april-swap-and-shop-clark-gardens/
LOCATION:Clark Gardens\, 567 Maddux Road\, Weatherford\, TX\, 76088\, United States
END:VEVENT
END:VCALENDAR