BEGIN:VCALENDAR
VERSION:2.0
PRODID:-//North Texas Garden Railroad Club - ECPv6.15.20//NONSGML v1.0//EN
CALSCALE:GREGORIAN
METHOD:PUBLISH
X-WR-CALNAME:North Texas Garden Railroad Club
X-ORIGINAL-URL:https://ntgrc.org
X-WR-CALDESC:Events for North Texas Garden Railroad Club
REFRESH-INTERVAL;VALUE=DURATION:PT1H
X-Robots-Tag:noindex
X-PUBLISHED-TTL:PT1H
BEGIN:VTIMEZONE
TZID:America/Chicago
BEGIN:DAYLIGHT
TZOFFSETFROM:-0600
TZOFFSETTO:-0500
TZNAME:CDT
DTSTART:20230312T080000
END:DAYLIGHT
BEGIN:STANDARD
TZOFFSETFROM:-0500
TZOFFSETTO:-0600
TZNAME:CST
DTSTART:20231105T070000
END:STANDARD
BEGIN:DAYLIGHT
TZOFFSETFROM:-0600
TZOFFSETTO:-0500
TZNAME:CDT
DTSTART:20240310T080000
END:DAYLIGHT
BEGIN:STANDARD
TZOFFSETFROM:-0500
TZOFFSETTO:-0600
TZNAME:CST
DTSTART:20241103T070000
END:STANDARD
BEGIN:DAYLIGHT
TZOFFSETFROM:-0600
TZOFFSETTO:-0500
TZNAME:CDT
DTSTART:20250309T080000
END:DAYLIGHT
BEGIN:STANDARD
TZOFFSETFROM:-0500
TZOFFSETTO:-0600
TZNAME:CST
DTSTART:20251102T070000
END:STANDARD
BEGIN:DAYLIGHT
TZOFFSETFROM:-0600
TZOFFSETTO:-0500
TZNAME:CDT
DTSTART:20260308T080000
END:DAYLIGHT
BEGIN:STANDARD
TZOFFSETFROM:-0500
TZOFFSETTO:-0600
TZNAME:CST
DTSTART:20261101T070000
END:STANDARD
BEGIN:DAYLIGHT
TZOFFSETFROM:-0600
TZOFFSETTO:-0500
TZNAME:CDT
DTSTART:20270314T080000
END:DAYLIGHT
BEGIN:STANDARD
TZOFFSETFROM:-0500
TZOFFSETTO:-0600
TZNAME:CST
DTSTART:20271107T070000
END:STANDARD
END:VTIMEZONE
BEGIN:VTIMEZONE
TZID:UTC
BEGIN:STANDARD
TZOFFSETFROM:+0000
TZOFFSETTO:+0000
TZNAME:UTC
DTSTART:20230101T000000
END:STANDARD
END:VTIMEZONE
BEGIN:VEVENT
DTSTART;TZID=America/Chicago:20260224T180000
DTEND;TZID=America/Chicago:20260224T190000
DTSTAMP:20260423T173230
CREATED:20260121T155945Z
LAST-MODIFIED:20260121T155945Z
UID:910-1771956000-1771959600@ntgrc.org
SUMMARY:NTGRC February Board of Directors Meeting
DESCRIPTION:
URL:https://ntgrc.org/event/ntgrc-february-board-of-directors-meeting-2/
LOCATION:Sping Creek BBQ – Irving\, 3514 W Airport Fwy\, Irving\, TX\, 75062\, United States
END:VEVENT
BEGIN:VEVENT
DTSTART;TZID=America/Chicago:20260215T140000
DTEND;TZID=America/Chicago:20260215T160000
DTSTAMP:20260423T173230
CREATED:20251121T155505Z
LAST-MODIFIED:20251121T155505Z
UID:862-1771164000-1771171200@ntgrc.org
SUMMARY:Victor and Lawanda Jones' Home Meeting
DESCRIPTION:
URL:https://ntgrc.org/event/victor-and-lawanda-jones-home-meeting-2/
LOCATION:Victor & Lawanda Jones’ Home\, 11351 Norcross Drive\, Cross Roads\, TX\, 76227\, United States
END:VEVENT
BEGIN:VEVENT
DTSTART;TZID=America/Chicago:20260131T130000
DTEND;TZID=America/Chicago:20260131T160000
DTSTAMP:20260423T173230
CREATED:20260120T232820Z
LAST-MODIFIED:20260120T232820Z
UID:901-1769864400-1769875200@ntgrc.org
SUMMARY:Rod & Teresa Kile Open House
DESCRIPTION:
URL:https://ntgrc.org/event/rod-teresa-kile-open-house/
LOCATION:Rod & Teresa Kile\, 5729 Havana Dr.\, North Richland Hills\, TX\, 76180\, United States
END:VEVENT
BEGIN:VEVENT
DTSTART;VALUE=DATE:20260117
DTEND;VALUE=DATE:20260119
DTSTAMP:20260423T173230
CREATED:20250309T212117Z
LAST-MODIFIED:20250309T212117Z
UID:768-1768608000-1768780799@ntgrc.org
SUMMARY:Dallas Area Train Show
DESCRIPTION:
URL:https://ntgrc.org/event/dallas-area-train-show-4/
LOCATION:Plano Event Center\, 2000 E. Spring Creek Parkway\, Plano\, TX\, 75074\, United States
END:VEVENT
BEGIN:VEVENT
DTSTART;TZID=America/Chicago:20260116T120000
DTEND;TZID=America/Chicago:20260116T170000
DTSTAMP:20260423T173230
CREATED:20250309T211839Z
LAST-MODIFIED:20250309T211839Z
UID:766-1768564800-1768582800@ntgrc.org
SUMMARY:Dallas Area Train Show Setup
DESCRIPTION:
URL:https://ntgrc.org/event/dallas-area-train-show-setup/
LOCATION:Plano Event Center\, 2000 E. Spring Creek Parkway\, Plano\, TX\, 75074\, United States
END:VEVENT
BEGIN:VEVENT
DTSTART;TZID=America/Chicago:20251213T150000
DTEND;TZID=America/Chicago:20251213T200000
DTSTAMP:20260423T173230
CREATED:20250309T211412Z
LAST-MODIFIED:20251121T155007Z
UID:764-1765638000-1765656000@ntgrc.org
SUMMARY:Christmas Dinner Gathering - David & Cindy Valdez's Home
DESCRIPTION:
URL:https://ntgrc.org/event/christmas-dinner-gathering-david-cindy-valdezs-home/
LOCATION:David and Cindy Valdez’s Home\, 129 Hidden Valley Airport\, Shady Shores\, TX\, 76208\, United States
END:VEVENT
BEGIN:VEVENT
DTSTART;TZID=America/Chicago:20251102T120000
DTEND;TZID=America/Chicago:20251102T160000
DTSTAMP:20260423T173230
CREATED:20250625T150823Z
LAST-MODIFIED:20250625T150823Z
UID:806-1762084800-1762099200@ntgrc.org
SUMMARY:Swap & Shop Event
DESCRIPTION:
URL:https://ntgrc.org/event/swap-shop-event/
LOCATION:Texas Discovery Gardens\, 3601 Martin Luther King Jr Blvd\, Dallas\, TX\, 75210\, United States
END:VEVENT
BEGIN:VEVENT
DTSTART;TZID=America/Chicago:20251012T140000
DTEND;TZID=America/Chicago:20251012T160000
DTSTAMP:20260423T173230
CREATED:20250513T213737Z
LAST-MODIFIED:20250513T213737Z
UID:787-1760277600-1760284800@ntgrc.org
SUMMARY:Cindy Roerig's Home Meeting
DESCRIPTION:
URL:https://ntgrc.org/event/cindy-roerigs-home-meeting/
LOCATION:Cindy Roerig’s Home\, 3710 Poplar Ct\, Carrollton\, TX\, 75007\, United States
END:VEVENT
BEGIN:VEVENT
DTSTART;VALUE=DATE:20250927
DTEND;VALUE=DATE:20250929
DTSTAMP:20260423T173230
CREATED:20250302T180555Z
LAST-MODIFIED:20250302T181750Z
UID:748-1758931200-1759103999@ntgrc.org
SUMMARY:Fall Plano Train Show
DESCRIPTION:
URL:https://ntgrc.org/event/fall-plano-train-show-4/
LOCATION:Plano Event Center\, 2000 E. Spring Creek Parkway\, Plano\, TX\, 75074\, United States
END:VEVENT
BEGIN:VEVENT
DTSTART;TZID=America/Chicago:20250926T110000
DTEND;TZID=America/Chicago:20250926T170000
DTSTAMP:20260423T173230
CREATED:20250302T180336Z
LAST-MODIFIED:20250302T180336Z
UID:746-1758884400-1758906000@ntgrc.org
SUMMARY:Fall Plano Train Show Setup
DESCRIPTION:
URL:https://ntgrc.org/event/fall-plano-train-show-setup/
LOCATION:Plano Event Center\, 2000 E. Spring Creek Parkway\, Plano\, TX\, 75074\, United States
END:VEVENT
BEGIN:VEVENT
DTSTART;VALUE=DATE:20250926
DTEND;VALUE=DATE:20251020
DTSTAMP:20260423T173230
CREATED:20250302T181151Z
LAST-MODIFIED:20250302T181151Z
UID:751-1758844800-1760918399@ntgrc.org
SUMMARY:State Fair of Texas: Texas Discovery Gardens Train Runs
DESCRIPTION:
URL:https://ntgrc.org/event/state-fair-of-texas-texas-discovery-gardens-train-runs-3/
LOCATION:Texas Discovery Gardens\, 3601 Martin Luther King Jr Blvd\, Dallas\, TX\, 75210\, United States
END:VEVENT
BEGIN:VEVENT
DTSTART;VALUE=DATE:20250830
DTEND;VALUE=DATE:20250901
DTSTAMP:20260423T173230
CREATED:20250302T174741Z
LAST-MODIFIED:20250302T174741Z
UID:744-1756512000-1756684799@ntgrc.org
SUMMARY:Clark Gardens Train Fest
DESCRIPTION:
URL:https://ntgrc.org/event/clark-gardens-train-fest/
LOCATION:Clark Gardens\, 567 Maddux Road\, Weatherford\, TX\, 76088\, United States
END:VEVENT
BEGIN:VEVENT
DTSTART;VALUE=DATE:20250804
DTEND;VALUE=DATE:20250806
DTSTAMP:20260423T173230
CREATED:20250302T174257Z
LAST-MODIFIED:20250302T174257Z
UID:742-1754265600-1754438399@ntgrc.org
SUMMARY:Scottish Rite Hospital Train Run
DESCRIPTION:
URL:https://ntgrc.org/event/scottish-rite-hospital-train-run/
LOCATION:Scottish Rite Hospital\, 2222 Welborn Street\, Dallas\, TX\, 75219\, United States
END:VEVENT
BEGIN:VEVENT
DTSTART;TZID=America/Chicago:20250802T163000
DTEND;TZID=America/Chicago:20250802T210000
DTSTAMP:20260423T173230
CREATED:20250302T171133Z
LAST-MODIFIED:20250302T182419Z
UID:734-1754152200-1754168400@ntgrc.org
SUMMARY:Friends of the Cumbres Toltec Scenic Railroad Dinner Train
DESCRIPTION:
URL:https://ntgrc.org/event/friends-of-the-cumbres-toltec-railroad-scenic-railroad-dinner-train/
LOCATION:Cumbres Toltec Railroad\, 500 S Terrace Ave\, Chama\, NM\, 87520\, United States
END:VEVENT
BEGIN:VEVENT
DTSTART;VALUE=DATE:20250710
DTEND;VALUE=DATE:20250711
DTSTAMP:20260423T173230
CREATED:20250410T150351Z
LAST-MODIFIED:20250410T150351Z
UID:776-1752105600-1752191999@ntgrc.org
SUMMARY:Cook Children's Hospital Train Run
DESCRIPTION:
URL:https://ntgrc.org/event/cook-childrens-hospital-train-run/
LOCATION:Cook’s Children’s Hospital\, 801 7th Ave.\, Fort Worth\, TX\, 76104\, United States
END:VEVENT
BEGIN:VEVENT
DTSTART;TZID=America/Chicago:20250618T080000
DTEND;TZID=America/Chicago:20250622T170000
DTSTAMP:20260423T173230
CREATED:20250127T203745Z
LAST-MODIFIED:20250127T203745Z
UID:718-1750233600-1750611600@ntgrc.org
SUMMARY:40th Anniversary National Garden Railway Convention
DESCRIPTION:
URL:https://ntgrc.org/event/40th-anniversary-national-garden-railway-convention/
LOCATION:TX
END:VEVENT
BEGIN:VEVENT
DTSTART;VALUE=DATE:20250604
DTEND;VALUE=DATE:20250608
DTSTAMP:20260423T173230
CREATED:20250302T171802Z
LAST-MODIFIED:20250319T155306Z
UID:736-1748995200-1749340799@ntgrc.org
SUMMARY:3rd Annual Midwest Garden Railroad Gathering - Tulsa Edition
DESCRIPTION:
URL:https://ntgrc.org/event/3rd-annual-midwest-graden-railroad-gathering-tulsa-edition/
LOCATION:Collinsville Church of Christ\, 1010 W. Broadway St.\, Collinsville\, OK\, 74021\, United States
END:VEVENT
BEGIN:VEVENT
DTSTART;TZID=America/Chicago:20250601T140000
DTEND;TZID=America/Chicago:20250601T160000
DTSTAMP:20260423T173230
CREATED:20250307T212651Z
LAST-MODIFIED:20250307T212651Z
UID:760-1748786400-1748793600@ntgrc.org
SUMMARY:Vard & Becky Moore's Home Meeting - Annual Meeting
DESCRIPTION:
URL:https://ntgrc.org/event/vard-becky-moores-home-meeting-annual-meeting/
LOCATION:Vard & Becky Moore’s Home\, 6175 Preston Creek Ct\, Dallas\, TX\, 75240\, United States
END:VEVENT
BEGIN:VEVENT
DTSTART;TZID=America/Chicago:20250518T140000
DTEND;TZID=America/Chicago:20250518T160000
DTSTAMP:20260423T173230
CREATED:20250127T201752Z
LAST-MODIFIED:20250127T201752Z
UID:715-1747576800-1747584000@ntgrc.org
SUMMARY:John & Tina Pollock’s Home Meeting
DESCRIPTION:
URL:https://ntgrc.org/event/john-tina-pollocks-home-meeting/
LOCATION:John & Tina Pollock’s Home\, 1612 Hyde Park Blvd\, Cleburne\, TX\, 76033\, United States
END:VEVENT
BEGIN:VEVENT
DTSTART;TZID=America/Chicago:20250427T150000
DTEND;TZID=America/Chicago:20250427T170000
DTSTAMP:20260423T173230
CREATED:20250222T172615Z
LAST-MODIFIED:20250410T145920Z
UID:726-1745766000-1745773200@ntgrc.org
SUMMARY:Robby & Heather Greene's Home Meeting
DESCRIPTION:
URL:https://ntgrc.org/event/robby-heather-greenes-home-meeting-2/
LOCATION:Robby & Heather Greene’s Home\, 400 N. Gaston Drive\, Wylie\, TX\, 75098\, United States
END:VEVENT
BEGIN:VEVENT
DTSTART;TZID=America/Chicago:20250330T140000
DTEND;TZID=America/Chicago:20250330T160000
DTSTAMP:20260423T173230
CREATED:20250222T172230Z
LAST-MODIFIED:20250222T182356Z
UID:723-1743343200-1743350400@ntgrc.org
SUMMARY:Barbara Pena & Paul McCormick's Home Meeting
DESCRIPTION:
URL:https://ntgrc.org/event/barbara-pena-paul-youngs-home-meeting/
LOCATION:Barbara Pena & Paul McCormick’s Home\, 1502 Crown Point Rd.\, McKinney\, TX\, 75072\, United States
END:VEVENT
BEGIN:VEVENT
DTSTART;VALUE=DATE:20250308
DTEND;VALUE=DATE:20250317
DTSTAMP:20260423T173230
CREATED:20250303T233910Z
LAST-MODIFIED:20250303T233910Z
UID:757-1741392000-1742169599@ntgrc.org
SUMMARY:Texas Discovery Gardens Spring Break Train Runs
DESCRIPTION:
URL:https://ntgrc.org/event/texas-discovery-gardens-spring-break-train-runs/
LOCATION:Texas Discovery Gardens\, 3601 Martin Luther King Jr Blvd\, Dallas\, TX\, 75210\, United States
END:VEVENT
BEGIN:VEVENT
DTSTART;TZID=America/Chicago:20250216T140000
DTEND;TZID=America/Chicago:20250216T160000
DTSTAMP:20260423T173230
CREATED:20250127T201522Z
LAST-MODIFIED:20250127T203122Z
UID:713-1739714400-1739721600@ntgrc.org
SUMMARY:Victor and Lawanda Jones' Home Meeting
DESCRIPTION:
URL:https://ntgrc.org/event/victor-and-lawanda-jones-home-meeting/
LOCATION:Victor & Lawanda Jones’ Home\, 11351 Norcross Drive\, Cross Roads\, TX\, 76227\, United States
END:VEVENT
BEGIN:VEVENT
DTSTART;TZID=America/Chicago:20250118T100000
DTEND;TZID=America/Chicago:20250119T160000
DTSTAMP:20260423T173230
CREATED:20240624T235012Z
LAST-MODIFIED:20240624T235012Z
UID:613-1737194400-1737302400@ntgrc.org
SUMMARY:Dallas Area Train Show
DESCRIPTION:
URL:https://ntgrc.org/event/dallas-area-train-show-3/
LOCATION:Plano Event Center\, 2000 E. Spring Creek Parkway\, Plano\, TX\, 75074\, United States
END:VEVENT
BEGIN:VEVENT
DTSTART;TZID=America/Chicago:20250117T080000
DTEND;TZID=America/Chicago:20250117T170000
DTSTAMP:20260423T173230
CREATED:20240624T234803Z
LAST-MODIFIED:20240624T234803Z
UID:611-1737100800-1737133200@ntgrc.org
SUMMARY:Dallas Area Train Show Setup and No-Host Dinner
DESCRIPTION:
URL:https://ntgrc.org/event/dallas-area-train-show-setup-and-no-host-dinner-3/
LOCATION:Plano Event Center\, 2000 E. Spring Creek Parkway\, Plano\, TX\, 75074\, United States
END:VEVENT
BEGIN:VEVENT
DTSTART;TZID=UTC:20241215T150000
DTEND;TZID=UTC:20241215T190000
DTSTAMP:20260423T173230
CREATED:20240220T075659Z
LAST-MODIFIED:20241117T175656Z
UID:574-1734274800-1734289200@ntgrc.org
SUMMARY:David & Cindy Valdez's Christmas Dinner Meeting
DESCRIPTION:Address: 129 Hidden Valley Airpark\, Shady Shores\, TX 76208.  Once you enter into the airport\, take the very first street to the right\, it’s the first house on the right.  Call David if needing assistance: 817-939-6400
URL:https://ntgrc.org/event/david-cindy-valdezs-christmas-dinner-meeting/
LOCATION:David and Cindy Valdez’s Home\, 129 Hidden Valley Airport\, Shady Shores\, TX\, 76208\, United States
END:VEVENT
BEGIN:VEVENT
DTSTART;TZID=America/Chicago:20241110T140000
DTEND;TZID=America/Chicago:20241110T160000
DTSTAMP:20260423T173230
CREATED:20241029T201043Z
LAST-MODIFIED:20241029T201043Z
UID:702-1731247200-1731254400@ntgrc.org
SUMMARY:Jack Huffman’s Home Meeting
DESCRIPTION:
URL:https://ntgrc.org/event/jack-huffmans-home-meeting-2/
LOCATION:Jack Huffman’s Home\, 7001 Aspen Wood Trail\, Fort Worth\, TX\, 76132\, United States
END:VEVENT
BEGIN:VEVENT
DTSTART;TZID=America/Chicago:20241103T140000
DTEND;TZID=America/Chicago:20241103T160000
DTSTAMP:20260423T173230
CREATED:20240624T234408Z
LAST-MODIFIED:20241029T200819Z
UID:609-1730642400-1730649600@ntgrc.org
SUMMARY:Jack Huffman's Home Meeting
DESCRIPTION:
URL:https://ntgrc.org/event/jack-huffmans-home-meeting/
LOCATION:Jack Huffman’s Home\, 7001 Aspen Wood Trail\, Fort Worth\, TX\, 76132\, United States
END:VEVENT
BEGIN:VEVENT
DTSTART;TZID=America/Chicago:20241029T180000
DTEND;TZID=America/Chicago:20241029T193000
DTSTAMP:20260423T173230
CREATED:20241029T201231Z
LAST-MODIFIED:20241029T201231Z
UID:704-1730224800-1730230200@ntgrc.org
SUMMARY:NTGRC October Board of Directors Meeting
DESCRIPTION:
URL:https://ntgrc.org/event/ntgrc-october-board-of-directors-meeting-2/
LOCATION:Sping Creek BBQ – Irving\, 3514 W Airport Fwy\, Irving\, TX\, 75062\, United States
END:VEVENT
BEGIN:VEVENT
DTSTART;TZID=America/Chicago:20241012T080000
DTEND;TZID=America/Chicago:20241012T170000
DTSTAMP:20260423T173230
CREATED:20240628T142141Z
LAST-MODIFIED:20240628T142637Z
UID:621-1728720000-1728752400@ntgrc.org
SUMMARY:Union Pacific Family Day
DESCRIPTION:
URL:https://ntgrc.org/event/union-pacific-family-day/
LOCATION:Union Pacific Switch Yard\, 1658 Roders Rd\, Fort Worth\, TX\, 76107
END:VEVENT
END:VCALENDAR