BEGIN:VCALENDAR
VERSION:2.0
PRODID:-//North Texas Garden Railroad Club - ECPv6.15.20//NONSGML v1.0//EN
CALSCALE:GREGORIAN
METHOD:PUBLISH
X-WR-CALNAME:North Texas Garden Railroad Club
X-ORIGINAL-URL:https://ntgrc.org
X-WR-CALDESC:Events for North Texas Garden Railroad Club
REFRESH-INTERVAL;VALUE=DURATION:PT1H
X-Robots-Tag:noindex
X-PUBLISHED-TTL:PT1H
BEGIN:VTIMEZONE
TZID:America/Chicago
BEGIN:DAYLIGHT
TZOFFSETFROM:-0600
TZOFFSETTO:-0500
TZNAME:CDT
DTSTART:20250309T080000
END:DAYLIGHT
BEGIN:STANDARD
TZOFFSETFROM:-0500
TZOFFSETTO:-0600
TZNAME:CST
DTSTART:20251102T070000
END:STANDARD
BEGIN:DAYLIGHT
TZOFFSETFROM:-0600
TZOFFSETTO:-0500
TZNAME:CDT
DTSTART:20260308T080000
END:DAYLIGHT
BEGIN:STANDARD
TZOFFSETFROM:-0500
TZOFFSETTO:-0600
TZNAME:CST
DTSTART:20261101T070000
END:STANDARD
BEGIN:DAYLIGHT
TZOFFSETFROM:-0600
TZOFFSETTO:-0500
TZNAME:CDT
DTSTART:20270314T080000
END:DAYLIGHT
BEGIN:STANDARD
TZOFFSETFROM:-0500
TZOFFSETTO:-0600
TZNAME:CST
DTSTART:20271107T070000
END:STANDARD
END:VTIMEZONE
BEGIN:VEVENT
DTSTART;TZID=America/Chicago:20260623T180000
DTEND;TZID=America/Chicago:20260623T190000
DTSTAMP:20260423T171140
CREATED:20260121T223739Z
LAST-MODIFIED:20260121T223958Z
UID:918-1782237600-1782241200@ntgrc.org
SUMMARY:NTGRC June Board of Directors Meeting
DESCRIPTION:
URL:https://ntgrc.org/event/ntgrc-june-board-of-directors-meeting-3/
LOCATION:Sping Creek BBQ – Irving\, 3514 W Airport Fwy\, Irving\, TX\, 75062\, United States
END:VEVENT
END:VCALENDAR