BEGIN:VCALENDAR
VERSION:2.0
PRODID:-//North Texas Garden Railroad Club - ECPv6.15.20//NONSGML v1.0//EN
CALSCALE:GREGORIAN
METHOD:PUBLISH
X-ORIGINAL-URL:https://ntgrc.org
X-WR-CALDESC:Events for North Texas Garden Railroad Club
REFRESH-INTERVAL;VALUE=DURATION:PT1H
X-Robots-Tag:noindex
X-PUBLISHED-TTL:PT1H
BEGIN:VTIMEZONE
TZID:America/Chicago
BEGIN:DAYLIGHT
TZOFFSETFROM:-0600
TZOFFSETTO:-0500
TZNAME:CDT
DTSTART:20250309T080000
END:DAYLIGHT
BEGIN:STANDARD
TZOFFSETFROM:-0500
TZOFFSETTO:-0600
TZNAME:CST
DTSTART:20251102T070000
END:STANDARD
BEGIN:DAYLIGHT
TZOFFSETFROM:-0600
TZOFFSETTO:-0500
TZNAME:CDT
DTSTART:20260308T080000
END:DAYLIGHT
BEGIN:STANDARD
TZOFFSETFROM:-0500
TZOFFSETTO:-0600
TZNAME:CST
DTSTART:20261101T070000
END:STANDARD
BEGIN:DAYLIGHT
TZOFFSETFROM:-0600
TZOFFSETTO:-0500
TZNAME:CDT
DTSTART:20270314T080000
END:DAYLIGHT
BEGIN:STANDARD
TZOFFSETFROM:-0500
TZOFFSETTO:-0600
TZNAME:CST
DTSTART:20271107T070000
END:STANDARD
END:VTIMEZONE
BEGIN:VEVENT
DTSTART;TZID=America/Chicago:20260607T140000
DTEND;TZID=America/Chicago:20260607T160000
DTSTAMP:20260423T171231
CREATED:20260120T230813Z
LAST-MODIFIED:20260226T004826Z
UID:895-1780840800-1780848000@ntgrc.org
SUMMARY:Vard & Becky Moore Annual Club Meeting
DESCRIPTION:
URL:https://ntgrc.org/event/vard-becky-moore-annual-club-meeting/
LOCATION:Vard & Becky Moore’s Home\, 6175 Preston Creek Ct\, Dallas\, TX\, 75240\, United States
END:VEVENT
END:VCALENDAR