BEGIN:VCALENDAR
VERSION:2.0
PRODID:-//North Texas Garden Railroad Club - ECPv6.15.20//NONSGML v1.0//EN
CALSCALE:GREGORIAN
METHOD:PUBLISH
X-ORIGINAL-URL:https://ntgrc.org
X-WR-CALDESC:Events for North Texas Garden Railroad Club
REFRESH-INTERVAL;VALUE=DURATION:PT1H
X-Robots-Tag:noindex
X-PUBLISHED-TTL:PT1H
BEGIN:VTIMEZONE
TZID:UTC
BEGIN:STANDARD
TZOFFSETFROM:+0000
TZOFFSETTO:+0000
TZNAME:UTC
DTSTART:20230101T000000
END:STANDARD
END:VTIMEZONE
BEGIN:VTIMEZONE
TZID:America/Chicago
BEGIN:DAYLIGHT
TZOFFSETFROM:-0600
TZOFFSETTO:-0500
TZNAME:CDT
DTSTART:20230312T080000
END:DAYLIGHT
BEGIN:STANDARD
TZOFFSETFROM:-0500
TZOFFSETTO:-0600
TZNAME:CST
DTSTART:20231105T070000
END:STANDARD
BEGIN:DAYLIGHT
TZOFFSETFROM:-0600
TZOFFSETTO:-0500
TZNAME:CDT
DTSTART:20240310T080000
END:DAYLIGHT
BEGIN:STANDARD
TZOFFSETFROM:-0500
TZOFFSETTO:-0600
TZNAME:CST
DTSTART:20241103T070000
END:STANDARD
BEGIN:DAYLIGHT
TZOFFSETFROM:-0600
TZOFFSETTO:-0500
TZNAME:CDT
DTSTART:20250309T080000
END:DAYLIGHT
BEGIN:STANDARD
TZOFFSETFROM:-0500
TZOFFSETTO:-0600
TZNAME:CST
DTSTART:20251102T070000
END:STANDARD
END:VTIMEZONE
BEGIN:VEVENT
DTSTART;TZID=UTC:20240927T100000
DTEND;TZID=UTC:20241020T180000
DTSTAMP:20260424T200548
CREATED:20240207T234140Z
LAST-MODIFIED:20240207T234140Z
UID:550-1727431200-1729447200@ntgrc.org
SUMMARY:State Fair of Texas: Texas Discovery Gardens Train Runs
DESCRIPTION:
URL:https://ntgrc.org/event/state-fair-of-texas-texas-discovery-gardens-train-runs-2/
LOCATION:Texas Discovery Gardens\, 3601 Martin Luther King Jr Blvd\, Dallas\, TX\, 75210\, United States
END:VEVENT
BEGIN:VEVENT
DTSTART;TZID=America/Chicago:20241012T080000
DTEND;TZID=America/Chicago:20241012T170000
DTSTAMP:20260424T200548
CREATED:20240628T142141Z
LAST-MODIFIED:20240628T142637Z
UID:621-1728720000-1728752400@ntgrc.org
SUMMARY:Union Pacific Family Day
DESCRIPTION:
URL:https://ntgrc.org/event/union-pacific-family-day/
LOCATION:Union Pacific Switch Yard\, 1658 Roders Rd\, Fort Worth\, TX\, 76107
END:VEVENT
END:VCALENDAR