BEGIN:VCALENDAR
VERSION:2.0
PRODID:-//North Texas Garden Railroad Club - ECPv6.15.20//NONSGML v1.0//EN
CALSCALE:GREGORIAN
METHOD:PUBLISH
X-WR-CALNAME:North Texas Garden Railroad Club
X-ORIGINAL-URL:https://ntgrc.org
X-WR-CALDESC:Events for North Texas Garden Railroad Club
REFRESH-INTERVAL;VALUE=DURATION:PT1H
X-Robots-Tag:noindex
X-PUBLISHED-TTL:PT1H
BEGIN:VTIMEZONE
TZID:UTC
BEGIN:STANDARD
TZOFFSETFROM:+0000
TZOFFSETTO:+0000
TZNAME:UTC
DTSTART:20230101T000000
END:STANDARD
END:VTIMEZONE
BEGIN:VEVENT
DTSTART;TZID=UTC:20240310T140000
DTEND;TZID=UTC:20240310T160000
DTSTAMP:20260425T072657
CREATED:20240220T072553Z
LAST-MODIFIED:20240220T072553Z
UID:558-1710079200-1710086400@ntgrc.org
SUMMARY:Victor & Lawanda Jones' Home Meeting
DESCRIPTION:
URL:https://ntgrc.org/event/victor-lawanda-jones-home-meeting/
LOCATION:Victor & Lawanda Jones’ Home\, 11351 Norcross Drive\, Cross Roads\, TX\, 76227\, United States
END:VEVENT
END:VCALENDAR