BEGIN:VCALENDAR
VERSION:2.0
PRODID:-//North Texas Garden Railroad Club - ECPv6.15.20//NONSGML v1.0//EN
CALSCALE:GREGORIAN
METHOD:PUBLISH
X-WR-CALNAME:North Texas Garden Railroad Club
X-ORIGINAL-URL:https://ntgrc.org
X-WR-CALDESC:Events for North Texas Garden Railroad Club
REFRESH-INTERVAL;VALUE=DURATION:PT1H
X-Robots-Tag:noindex
X-PUBLISHED-TTL:PT1H
BEGIN:VTIMEZONE
TZID:UTC
BEGIN:STANDARD
TZOFFSETFROM:+0000
TZOFFSETTO:+0000
TZNAME:UTC
DTSTART:20220101T000000
END:STANDARD
END:VTIMEZONE
BEGIN:VEVENT
DTSTART;VALUE=DATE:20230902
DTEND;VALUE=DATE:20230904
DTSTAMP:20260425T171836
CREATED:20230507T063544Z
LAST-MODIFIED:20230507T063544Z
UID:475-1693612800-1693785599@ntgrc.org
SUMMARY:Clark Gardens Model Train Show
DESCRIPTION:
URL:https://ntgrc.org/event/clark-gardens-model-train-show/
LOCATION:Clark Gardens\, 567 Maddux Road\, Weatherford\, TX\, 76088\, United States
END:VEVENT
END:VCALENDAR