BEGIN:VCALENDAR
VERSION:2.0
PRODID:-//North Texas Garden Railroad Club - ECPv6.15.20//NONSGML v1.0//EN
CALSCALE:GREGORIAN
METHOD:PUBLISH
X-WR-CALNAME:North Texas Garden Railroad Club
X-ORIGINAL-URL:https://ntgrc.org
X-WR-CALDESC:Events for North Texas Garden Railroad Club
REFRESH-INTERVAL;VALUE=DURATION:PT1H
X-Robots-Tag:noindex
X-PUBLISHED-TTL:PT1H
BEGIN:VTIMEZONE
TZID:UTC
BEGIN:STANDARD
TZOFFSETFROM:+0000
TZOFFSETTO:+0000
TZNAME:UTC
DTSTART:20220101T000000
END:STANDARD
END:VTIMEZONE
BEGIN:VEVENT
DTSTART;VALUE=DATE:20230820
DTEND;VALUE=DATE:20230827
DTSTAMP:20260425T184107
CREATED:20221212T231917Z
LAST-MODIFIED:20221212T231917Z
UID:404-1692489600-1693094399@ntgrc.org
SUMMARY:National Model Railroad Association (NMRA) International Convention "2023 Texas Express"
DESCRIPTION:
URL:https://ntgrc.org/event/national-model-railroad-association-nmra-international-convention-2023-texas-express/
LOCATION:Gaylord Texan\, 1501 Gaylord Trail\, Grapevine\, TX\, 76051\, United States
END:VEVENT
END:VCALENDAR