BEGIN:VCALENDAR
VERSION:2.0
PRODID:-//North Texas Garden Railroad Club - ECPv6.15.20//NONSGML v1.0//EN
CALSCALE:GREGORIAN
METHOD:PUBLISH
X-ORIGINAL-URL:https://ntgrc.org
X-WR-CALDESC:Events for North Texas Garden Railroad Club
REFRESH-INTERVAL;VALUE=DURATION:PT1H
X-Robots-Tag:noindex
X-PUBLISHED-TTL:PT1H
BEGIN:VTIMEZONE
TZID:UTC
BEGIN:STANDARD
TZOFFSETFROM:+0000
TZOFFSETTO:+0000
TZNAME:UTC
DTSTART:20220101T000000
END:STANDARD
END:VTIMEZONE
BEGIN:VEVENT
DTSTART;TZID=UTC:20230729T170000
DTEND;TZID=UTC:20230729T210000
DTSTAMP:20260425T200734
CREATED:20221212T231330Z
LAST-MODIFIED:20221212T231330Z
UID:401-1690650000-1690664400@ntgrc.org
SUMMARY:Friends of the Cumbres & Toltec Dinner Train
DESCRIPTION:
URL:https://ntgrc.org/event/friends-of-the-cumbres-toltec-dinner-train/
LOCATION:TX
END:VEVENT
END:VCALENDAR